BEGIN:VCALENDAR
VERSION:2.0
PRODID:-//Guido Heuer - ECPv6.15.20//NONSGML v1.0//EN
CALSCALE:GREGORIAN
METHOD:PUBLISH
X-ORIGINAL-URL:https://www.guido-heuer.de
X-WR-CALDESC:Veranstaltungen für Guido Heuer
REFRESH-INTERVAL;VALUE=DURATION:PT1H
X-Robots-Tag:noindex
X-PUBLISHED-TTL:PT1H
BEGIN:VTIMEZONE
TZID:Europe/Berlin
BEGIN:DAYLIGHT
TZOFFSETFROM:+0100
TZOFFSETTO:+0200
TZNAME:CEST
DTSTART:20250330T010000
END:DAYLIGHT
BEGIN:STANDARD
TZOFFSETFROM:+0200
TZOFFSETTO:+0100
TZNAME:CET
DTSTART:20251026T010000
END:STANDARD
BEGIN:DAYLIGHT
TZOFFSETFROM:+0100
TZOFFSETTO:+0200
TZNAME:CEST
DTSTART:20260329T010000
END:DAYLIGHT
BEGIN:STANDARD
TZOFFSETFROM:+0200
TZOFFSETTO:+0100
TZNAME:CET
DTSTART:20261025T010000
END:STANDARD
BEGIN:DAYLIGHT
TZOFFSETFROM:+0100
TZOFFSETTO:+0200
TZNAME:CEST
DTSTART:20270328T010000
END:DAYLIGHT
BEGIN:STANDARD
TZOFFSETFROM:+0200
TZOFFSETTO:+0100
TZNAME:CET
DTSTART:20271031T010000
END:STANDARD
END:VTIMEZONE
BEGIN:VEVENT
DTSTART;TZID=Europe/Berlin:20260418T100000
DTEND;TZID=Europe/Berlin:20260418T130000
DTSTAMP:20260421T154824
CREATED:20260414T103600Z
LAST-MODIFIED:20260414T103600Z
UID:12169-1776506400-1776517200@www.guido-heuer.de
SUMMARY:Pflanzaktion im Hohen Holz
DESCRIPTION:Pflanzaktionen des Landtages in Kooperation mit der Schutzgemeinschaft Deutscher Wald
URL:https://www.guido-heuer.de/termine/pflanzaktion-im-hohen-holz/
CATEGORIES:Allgemein
END:VEVENT
END:VCALENDAR