BEGIN:VCALENDAR
VERSION:2.0
PRODID:-//Guido Heuer - ECPv6.15.20//NONSGML v1.0//EN
CALSCALE:GREGORIAN
METHOD:PUBLISH
X-ORIGINAL-URL:https://www.guido-heuer.de
X-WR-CALDESC:Veranstaltungen für Guido Heuer
REFRESH-INTERVAL;VALUE=DURATION:PT1H
X-Robots-Tag:noindex
X-PUBLISHED-TTL:PT1H
BEGIN:VTIMEZONE
TZID:Europe/Berlin
BEGIN:DAYLIGHT
TZOFFSETFROM:+0100
TZOFFSETTO:+0200
TZNAME:CEST
DTSTART:20250330T010000
END:DAYLIGHT
BEGIN:STANDARD
TZOFFSETFROM:+0200
TZOFFSETTO:+0100
TZNAME:CET
DTSTART:20251026T010000
END:STANDARD
BEGIN:DAYLIGHT
TZOFFSETFROM:+0100
TZOFFSETTO:+0200
TZNAME:CEST
DTSTART:20260329T010000
END:DAYLIGHT
BEGIN:STANDARD
TZOFFSETFROM:+0200
TZOFFSETTO:+0100
TZNAME:CET
DTSTART:20261025T010000
END:STANDARD
BEGIN:DAYLIGHT
TZOFFSETFROM:+0100
TZOFFSETTO:+0200
TZNAME:CEST
DTSTART:20270328T010000
END:DAYLIGHT
BEGIN:STANDARD
TZOFFSETFROM:+0200
TZOFFSETTO:+0100
TZNAME:CET
DTSTART:20271031T010000
END:STANDARD
END:VTIMEZONE
BEGIN:VEVENT
DTSTART;TZID=Europe/Berlin:20260421T143000
DTEND;TZID=Europe/Berlin:20260421T153000
DTSTAMP:20260421T141914
CREATED:20260414T103651Z
LAST-MODIFIED:20260414T103651Z
UID:12171-1776781800-1776785400@www.guido-heuer.de
SUMMARY:Fraktionssitzung
DESCRIPTION:Sitzung der CDU-Fraktion im Landtag von Sachsen-Anhalt
URL:https://www.guido-heuer.de/termine/fraktionssitzung-10/
CATEGORIES:Allgemein
END:VEVENT
END:VCALENDAR